BEGIN:VCALENDAR
VERSION:2.0
PRODID:-//IWCT - ECPv6.15.20//NONSGML v1.0//EN
CALSCALE:GREGORIAN
METHOD:PUBLISH
X-ORIGINAL-URL:https://iwct.it
X-WR-CALDESC:Events for IWCT
REFRESH-INTERVAL;VALUE=DURATION:PT1H
X-Robots-Tag:noindex
X-PUBLISHED-TTL:PT1H
BEGIN:VTIMEZONE
TZID:Europe/Rome
BEGIN:DAYLIGHT
TZOFFSETFROM:+0100
TZOFFSETTO:+0200
TZNAME:CEST
DTSTART:20250330T010000
END:DAYLIGHT
BEGIN:STANDARD
TZOFFSETFROM:+0200
TZOFFSETTO:+0100
TZNAME:CET
DTSTART:20251026T010000
END:STANDARD
BEGIN:DAYLIGHT
TZOFFSETFROM:+0100
TZOFFSETTO:+0200
TZNAME:CEST
DTSTART:20260329T010000
END:DAYLIGHT
BEGIN:STANDARD
TZOFFSETFROM:+0200
TZOFFSETTO:+0100
TZNAME:CET
DTSTART:20261025T010000
END:STANDARD
BEGIN:DAYLIGHT
TZOFFSETFROM:+0100
TZOFFSETTO:+0200
TZNAME:CEST
DTSTART:20270328T010000
END:DAYLIGHT
BEGIN:STANDARD
TZOFFSETFROM:+0200
TZOFFSETTO:+0100
TZNAME:CET
DTSTART:20271031T010000
END:STANDARD
END:VTIMEZONE
BEGIN:VEVENT
DTSTART;TZID=Europe/Rome:20260331T100000
DTEND;TZID=Europe/Rome:20260331T120000
DTSTAMP:20260426T031113
CREATED:20250929T112811Z
LAST-MODIFIED:20251006T090545Z
UID:10000884-1774951200-1774958400@iwct.it
SUMMARY:IWCT Mom’s Group Coffee Morning
DESCRIPTION:Join fellow IWCT moms for coffee and friendly conversation. Stay as  long—or as briefly—as you like. Babies and fur babies are always welcome!  Please check the IWCT Moms’ GroupWhatsApp group for any last minute changes.\nTime:  10 to 12 noon\nLocation:  Pastarell\, Corso Vittorio Emanuele II 80\, 10123 Torino\nRSVP:  On the IWCT Moms’ Group Whatspp chat.\nNeed More Information:  Contact Gianna  (moms@iwct.it)
URL:https://iwct.it/event/iwct-moms-group-coffee-morning/2026-03-31/
LOCATION:Pastarell\, Corso Vittorio Emanuele II 80\, Torino\, Pidmonte\, 10123\, Italy
CATEGORIES:IWCT Activity,Mom's Group
ATTACH;FMTTYPE=image/jpeg:https://iwct.it/wp-content/uploads/2025/08/moms.jpg
ORGANIZER;CN="Gianna":MAILTO:moms@iwct.it
END:VEVENT
BEGIN:VEVENT
DTSTART;TZID=Europe/Rome:20260331T103000
DTEND;TZID=Europe/Rome:20260331T123000
DTSTAMP:20260426T031113
CREATED:20250919T105654Z
LAST-MODIFIED:20250919T105654Z
UID:10000521-1774953000-1774960200@iwct.it
SUMMARY:IWCT Literary Circle
DESCRIPTION:A Year of Stories…Mark your calendar and plan to join us for this month’s Literary Circle presentation on Tuesday\, March 31st. The book selected for our March presentation is “A Long Way Home” by Peter Carey (2017/ 336 pages).  Presented by Elena Baldi\nIrene Bobs loves fast driving. Her husband is the best car salesman in rural south eastern Australia. Together with Willie\, their lanky navigator\, they embark upon the Redex Trial\, a brutal race around the continent\, over roads no car will ever quite survive.\nDate:  Tuesday\, March 31st\nTime:  10:30 to 12:30\nLocation:  Circolo dei Lettori in Via Giambattista Bogino 9\, Torino\nJoin the IWCT Literary Circle WhatsApp Chat:  To stay up to date on what’s happening in the IWCT Literary Circle.\nNeed More Information:  Contact Tamara (literarycircle@iwct.it)\n\n 
URL:https://iwct.it/event/iwct-literary-circle-mar2026/
LOCATION:Circolo dei Lettori\, Via Bogino 9\, Torino\, Italy
CATEGORIES:IWCT Activity,Literary Circle
ATTACH;FMTTYPE=image/jpeg:https://iwct.it/wp-content/uploads/2025/08/iwct-literary-circle.jpg
ORGANIZER;CN="Tamara":MAILTO:literarycircle@iwct.it
END:VEVENT
END:VCALENDAR