BEGIN:VCALENDAR
VERSION:2.0
PRODID:-//IWCT - ECPv6.15.20//NONSGML v1.0//EN
CALSCALE:GREGORIAN
METHOD:PUBLISH
X-ORIGINAL-URL:https://iwct.it
X-WR-CALDESC:Events for IWCT
REFRESH-INTERVAL;VALUE=DURATION:PT1H
X-Robots-Tag:noindex
X-PUBLISHED-TTL:PT1H
BEGIN:VTIMEZONE
TZID:Europe/Rome
BEGIN:DAYLIGHT
TZOFFSETFROM:+0100
TZOFFSETTO:+0200
TZNAME:CEST
DTSTART:20250330T010000
END:DAYLIGHT
BEGIN:STANDARD
TZOFFSETFROM:+0200
TZOFFSETTO:+0100
TZNAME:CET
DTSTART:20251026T010000
END:STANDARD
BEGIN:DAYLIGHT
TZOFFSETFROM:+0100
TZOFFSETTO:+0200
TZNAME:CEST
DTSTART:20260329T010000
END:DAYLIGHT
BEGIN:STANDARD
TZOFFSETFROM:+0200
TZOFFSETTO:+0100
TZNAME:CET
DTSTART:20261025T010000
END:STANDARD
BEGIN:DAYLIGHT
TZOFFSETFROM:+0100
TZOFFSETTO:+0200
TZNAME:CEST
DTSTART:20270328T010000
END:DAYLIGHT
BEGIN:STANDARD
TZOFFSETFROM:+0200
TZOFFSETTO:+0100
TZNAME:CET
DTSTART:20271031T010000
END:STANDARD
END:VTIMEZONE
BEGIN:VEVENT
DTSTART;TZID=Europe/Rome:20260409T100000
DTEND;TZID=Europe/Rome:20260409T110000
DTSTAMP:20260424T065054
CREATED:20240807T201046Z
LAST-MODIFIED:20260420T154409Z
UID:10000103-1775728800-1775732400@iwct.it
SUMMARY:Walking Group
DESCRIPTION:Thursday Walks with the IWCT Ladies…Every Thursday—rain or shine—we head out for an easy walk.  It’s a fun way to catch up\, meet new friends\, and sneak in a little exercise as we walk through Parco del Valentino or along the Po River.    When we’re done\, we usually grab a coffee nearby and keep the conversation going.\nCome along whenever you can—just bring comfy shoes and a smile! 🌿☕\nDate:  Every Thursday\nTime:  10am to 11am\nLocation:  The Arch Parco del Valentino\nFor More information & Weekly Updates:  Check the Walking Group WhatsApp Chat or Linda Cameron (walking@iwct.it)
URL:https://iwct.it/event/walking-group-2025-08-07/2026-04-09/
LOCATION:Parco del Valentino\, Torino\, TO\, 10126\, Italy
CATEGORIES:IWCT Activity,Walking Group
ATTACH;FMTTYPE=image/jpeg:https://iwct.it/wp-content/uploads/2024/08/walking.jpg
ORGANIZER;CN="Linda Cameron":MAILTO:walking@iwct.it
END:VEVENT
BEGIN:VEVENT
DTSTART;TZID=Europe/Rome:20260409T193000
DTEND;TZID=Europe/Rome:20260409T220000
DTSTAMP:20260424T065054
CREATED:20260314T201625Z
LAST-MODIFIED:20260320T084907Z
UID:10003067-1775763000-1775772000@iwct.it
SUMMARY:Glamatric Trivia Night Aperitif Fundraising Event
DESCRIPTION:Glamatric Aperitivo Trivia Night\n\nReady to sip\, snack\, and show off your style smarts?  Join us at Glamatric Salon for a fun-filled Aperitivo Trivia Night where fashion\, movies\, and art take center stage!  From iconic runway moments to unforgettable film scenes and legendary masterpieces – this is your chance to prove you’ve got taste and trivia skills.\nDate: April 9th 2026\nTime:  19:30 – 22:00\nLocation:  Glamatric Salon – Corso Re Umberto 84\, Torino\nMax:  20 people\nCost:  10 for members and 15 for non members (all to ZeroTre)\n\n Fashion.  Movies.  Art.\n Aperitivo vibes & delicious bites\n Bring your friends or join a team\n Prizes for the most fabulous minds\nWhether you’re a trendsetter\, cinephile\, or art lover (or just here for the drinks)\, this night is all about good vibes and great company\nDress cute\, think fast\, and let’s make it a night to remember.  Good bags will be given to all participants and prize for the winners.
URL:https://iwct.it/event/glamatric-night-aperitif-april-9/
LOCATION:Glamatric Salon\, Corso Re Umberto 84\, Torino\, 10128\, Italy
CATEGORIES:Fundraising
ATTACH;FMTTYPE=image/jpeg:https://iwct.it/wp-content/uploads/2026/03/Glamatric.jpg
ORGANIZER;CN="Karima":MAILTO:socialgood@iwct.it
END:VEVENT
END:VCALENDAR