BEGIN:VCALENDAR
VERSION:2.0
PRODID:-//IWCT - ECPv6.15.20//NONSGML v1.0//EN
CALSCALE:GREGORIAN
METHOD:PUBLISH
X-WR-CALNAME:IWCT
X-ORIGINAL-URL:https://iwct.it
X-WR-CALDESC:Events for IWCT
REFRESH-INTERVAL;VALUE=DURATION:PT1H
X-Robots-Tag:noindex
X-PUBLISHED-TTL:PT1H
BEGIN:VTIMEZONE
TZID:Europe/Rome
BEGIN:DAYLIGHT
TZOFFSETFROM:+0100
TZOFFSETTO:+0200
TZNAME:CEST
DTSTART:20250330T010000
END:DAYLIGHT
BEGIN:STANDARD
TZOFFSETFROM:+0200
TZOFFSETTO:+0100
TZNAME:CET
DTSTART:20251026T010000
END:STANDARD
BEGIN:DAYLIGHT
TZOFFSETFROM:+0100
TZOFFSETTO:+0200
TZNAME:CEST
DTSTART:20260329T010000
END:DAYLIGHT
BEGIN:STANDARD
TZOFFSETFROM:+0200
TZOFFSETTO:+0100
TZNAME:CET
DTSTART:20261025T010000
END:STANDARD
BEGIN:DAYLIGHT
TZOFFSETFROM:+0100
TZOFFSETTO:+0200
TZNAME:CEST
DTSTART:20270328T010000
END:DAYLIGHT
BEGIN:STANDARD
TZOFFSETFROM:+0200
TZOFFSETTO:+0100
TZNAME:CET
DTSTART:20271031T010000
END:STANDARD
END:VTIMEZONE
BEGIN:VEVENT
DTSTART;TZID=Europe/Rome:20260413T103000
DTEND;TZID=Europe/Rome:20260629T150000
DTSTAMP:20260421T051327
CREATED:20260114T083408Z
LAST-MODIFIED:20260413T085235Z
UID:10002215-1776076200-1782745200@iwct.it
SUMMARY:Parliamo Italiano Semi-Confident
DESCRIPTION:Parliamo Italiano Semi-Confident Speakers gives IWCT members who are learning Italian the opportunity to practice talking in Italian about hobbies\, expressing personal feelings\, and conversations related to everyday life and grammar rules.  The group meets twice on Mondays.  The morning group meets at 10:30 am.  The afternoon group meets at 3 pm.  So\, choose a time that’s convenient for you and plan to join the group.\nDate:  Every Monday\nTime:  10:30 am to 12 noon…or...3 to 4:30 pm\nLocation:  Check the IWCT Conversational Italian (semi confident) WhatsApp Chat.\nRSVP:  Please RSVP on the IWCT Conversational Italian (semi confident) WhatsApp Chat by 9:30 am on Monday.\nNeed to Cancel or Change Your RSVP:  Message Catarina on the IWCT Conversational Italian (semi confident) WhatsApp Chat.\nNeed More Information:  Contact Catarina on the IWCT Conversational Italian (semi confident) WhatsApp Chat.\n  \n 
URL:https://iwct.it/event/parliamo-italiano-semi-confident/2026-04-13/
LOCATION:Check the IWCT Conversational Italian (semi-confident) WhatsApp Chat
CATEGORIES:Italian Language,IWCT Activity
ATTACH;FMTTYPE=image/jpeg:https://iwct.it/wp-content/uploads/2025/08/parliamo.jpg
ORGANIZER;CN="Caterina":MAILTO:secretary@iwct.it
END:VEVENT
BEGIN:VEVENT
DTSTART;TZID=Europe/Rome:20260420T103000
DTEND;TZID=Europe/Rome:20260706T150000
DTSTAMP:20260421T051327
CREATED:20260114T083408Z
LAST-MODIFIED:20260413T085235Z
UID:10002216-1776681000-1783350000@iwct.it
SUMMARY:Parliamo Italiano Semi-Confident
DESCRIPTION:Parliamo Italiano Semi-Confident Speakers gives IWCT members who are learning Italian the opportunity to practice talking in Italian about hobbies\, expressing personal feelings\, and conversations related to everyday life and grammar rules.  The group meets twice on Mondays.  The morning group meets at 10:30 am.  The afternoon group meets at 3 pm.  So\, choose a time that’s convenient for you and plan to join the group.\nDate:  Every Monday\nTime:  10:30 am to 12 noon…or...3 to 4:30 pm\nLocation:  Check the IWCT Conversational Italian (semi confident) WhatsApp Chat.\nRSVP:  Please RSVP on the IWCT Conversational Italian (semi confident) WhatsApp Chat by 9:30 am on Monday.\nNeed to Cancel or Change Your RSVP:  Message Catarina on the IWCT Conversational Italian (semi confident) WhatsApp Chat.\nNeed More Information:  Contact Catarina on the IWCT Conversational Italian (semi confident) WhatsApp Chat.\n  \n 
URL:https://iwct.it/event/parliamo-italiano-semi-confident/2026-04-20/
LOCATION:Check the IWCT Conversational Italian (semi-confident) WhatsApp Chat
CATEGORIES:Italian Language,IWCT Activity
ATTACH;FMTTYPE=image/jpeg:https://iwct.it/wp-content/uploads/2025/08/parliamo.jpg
ORGANIZER;CN="Caterina":MAILTO:secretary@iwct.it
END:VEVENT
BEGIN:VEVENT
DTSTART;TZID=Europe/Rome:20260421T100000
DTEND;TZID=Europe/Rome:20260421T120000
DTSTAMP:20260421T051327
CREATED:20260401T122643Z
LAST-MODIFIED:20260413T171307Z
UID:10003092-1776765600-1776772800@iwct.it
SUMMARY:IWCT ROWING OPEN DAY TUESDAY\,  APRIL 21
DESCRIPTION:IWCT Rowing Open Days at Circolo Caprera \nExperience the beauty of Turin from a new perspective! We are thrilled to invite you to our Rowing Open Days in collaboration with the historic Circolo Caprera. Whether you are a total beginner or looking to get back into the boat\, these sessions are the perfect “one-time” opportunity to try rowing on the Po. \nEvent Details:  We are offering two different sessions to suit your schedule. Please note that each session is limited to 12 participants.  So RSVP early! \n\nSession 1 (Afternoon): Thursday\, April 16 | 17:00 – 19:00 \nSession 12 (Morning): Tuesday\, April 21 | 10:00 – 12:00  (As you know\, the April 14th session was canceled because of the weather.  If you signed up for the Tuesday\, April 14th session\, your spot is automatically moved to the 21st.) \n\nLocation: Circolo Caprera\,  Corso Moncalieri\, 22\, 10131 Torino TO (On-site parking is available for all participants.) \nSigning up:\n\nReserve your place on Tuesday\, April 21…RSVP below.  (There are still a few spots available.) \n\nWhat to Bring & Wear: To ensure a safe and enjoyable experience on the water\, please come prepared with the following: \n\nHealth Certificate: A current non-competitive sport health certificate is required. \nClothing: Please wear fitted athletic clothing (loose items can get caught in the rowing equipment). \nFootwear: Comfortable sneakers or closed-toed athletic shoes. \nHydration: A bottle of water. \n\nGood to Know: \n\nDuration: Each session includes 1.5 hours of rowing instruction. \nWeather: In case of inclement weather\, we will contact you regarding potential alternate dates. \nFuture Interest: If you fall in love with the sport\, you’ll have the option to apply for a full Rowing Club Membership after the Open Day. \n\n \nReady to grab your oar?  RSVP Today! \n  \n  \n 
URL:https://iwct.it/event/open-rowing-april21/
LOCATION:Circolo Caprera\, Corso Moncalieri\, 22\, Torino\, 10131\, Italy
CATEGORIES:IWCT Activity,Rowing
ATTACH;FMTTYPE=image/jpeg:https://iwct.it/wp-content/uploads/2026/04/Rowing-Open-Day-21.jpg
END:VEVENT
BEGIN:VEVENT
DTSTART;TZID=Europe/Rome:20260421T100000
DTEND;TZID=Europe/Rome:20260630T110000
DTSTAMP:20260421T051327
CREATED:20260112T172847Z
LAST-MODIFIED:20260413T090201Z
UID:10001704-1776765600-1782817200@iwct.it
SUMMARY:Coffee Circle
DESCRIPTION:☕ IWCT Coffee Circle — Your Weekly Cup of Connection! 🥐\nStart your Tuesday with the perfect blend of aromatic coffee\, delicious pastries\, and friendly conversation! Join the IWCT Coffee Circle — a cozy get-together where members gather to chat\, laugh\, and enjoy a delightful morning among friends.\nWe meet every Tuesday (except IWCT Coffee Morning days) at 10:00 AM at Vyta\, located in the Porta Nuova Station atrium (next to UniEuro).\nEach member pays for her own refreshments — but the smiles\, laughter\, and camaraderie are always complimentary!\n✨ Come for the coffee. Stay for the company.\n📍 Meet-Up Details\n• When: Every Tuesday\n• Time: 10:00 – 11:00 AM\n• Where: Vyta — Porta Nuova Station Atrium (next to UniEuro)\n  \n📱 Join the WhatsApp Chat\nStay in the loop\, share plans\, and let us know when you’ll join!\n  \nℹ️ More Info\nContact Molly at coffeecircle@iwct.it
URL:https://iwct.it/event/coffee-circle-5/2026-04-21/
LOCATION:Vyta\, Porta Nuova Station Atrium (next to the UniEuro)
CATEGORIES:Coffee Circle,IWCT Activity
ATTACH;FMTTYPE=image/jpeg:https://iwct.it/wp-content/uploads/2025/02/coffee-circle.jpg
ORGANIZER;CN="Molly E.":MAILTO:coffeecircle@iwct.it
END:VEVENT
BEGIN:VEVENT
DTSTART;TZID=Europe/Rome:20260421T150000
DTEND;TZID=Europe/Rome:20260421T163000
DTSTAMP:20260421T051327
CREATED:20260126T195752Z
LAST-MODIFIED:20260314T183223Z
UID:10003064-1776783600-1776789000@iwct.it
SUMMARY:English Conversation
DESCRIPTION:Want to boost your English in a warm\, relaxed atmosphere? Join the IWCT English Conversation Group!  We chat\, read\, and explore short stories while expanding vocabulary and brushing up on grammar—always matched to your level and interests.  We meet twice a month…usually at Bar Meucci\, though the venue may occasionally change—so be sure to check the English Conversation WhatsApp group for the latest updates.\nNeed more information?  Contact Zoe at english@iwct.it\nDate:  Tuesdays\nTime:  3 pm to 4:40 pm\nLocation: Bar Meucci
URL:https://iwct.it/event/english-conversation-2/2026-04-21/
LOCATION:Bar Meucci\, Via Confienza\, 9\, Torino\, Piedmont\, 10121\, Italy
CATEGORIES:English Language,IWCT Activity
ATTACH;FMTTYPE=image/jpeg:https://iwct.it/wp-content/uploads/2025/09/English-Conversation.jpg
ORGANIZER;CN="Zoe":MAILTO:english@iwct.it
END:VEVENT
END:VCALENDAR