BEGIN:VCALENDAR
VERSION:2.0
PRODID:-//IWCT - ECPv6.15.20//NONSGML v1.0//EN
CALSCALE:GREGORIAN
METHOD:PUBLISH
X-WR-CALNAME:IWCT
X-ORIGINAL-URL:https://iwct.it
X-WR-CALDESC:Events for IWCT
REFRESH-INTERVAL;VALUE=DURATION:PT1H
X-Robots-Tag:noindex
X-PUBLISHED-TTL:PT1H
BEGIN:VTIMEZONE
TZID:Europe/Rome
BEGIN:DAYLIGHT
TZOFFSETFROM:+0100
TZOFFSETTO:+0200
TZNAME:CEST
DTSTART:20250330T010000
END:DAYLIGHT
BEGIN:STANDARD
TZOFFSETFROM:+0200
TZOFFSETTO:+0100
TZNAME:CET
DTSTART:20251026T010000
END:STANDARD
BEGIN:DAYLIGHT
TZOFFSETFROM:+0100
TZOFFSETTO:+0200
TZNAME:CEST
DTSTART:20260329T010000
END:DAYLIGHT
BEGIN:STANDARD
TZOFFSETFROM:+0200
TZOFFSETTO:+0100
TZNAME:CET
DTSTART:20261025T010000
END:STANDARD
BEGIN:DAYLIGHT
TZOFFSETFROM:+0100
TZOFFSETTO:+0200
TZNAME:CEST
DTSTART:20270328T010000
END:DAYLIGHT
BEGIN:STANDARD
TZOFFSETFROM:+0200
TZOFFSETTO:+0100
TZNAME:CET
DTSTART:20271031T010000
END:STANDARD
END:VTIMEZONE
BEGIN:VEVENT
DTSTART;TZID=Europe/Rome:20260429T093000
DTEND;TZID=Europe/Rome:20260429T130000
DTSTAMP:20260424T083750
CREATED:20250929T120115Z
LAST-MODIFIED:20251020T123940Z
UID:10000830-1777455000-1777467600@iwct.it
SUMMARY:IWCT Co-Working
DESCRIPTION:🌸 Weekly Women’s Co-Working Meet-Up\nSupport • Focus • Connection\n  \nWorking remotely doesn’t have to mean working alone.\nJoin us every week for a relaxed\, supportive co-working session designed for women who want focus\, community\, and accountability.\n✨ Perfect for:\nRemote workers\, freelancers\, creatives\, entrepreneurs—or anyone who wants a weekly productivity boost and a sense of connection.\n\nWhat to Expect\n\n\n🌿 Casual\, welcoming atmosphere\n\n\n💻 Bring-your-own-work style\n\n\n🤝 Light check-ins for accountability\n\n\n☕ Organic networking opportunities\n\n\n\nWhy Join?\nWhether you’re deep-diving into a project\, handling admin tasks\, or just craving a change of scenery—this is your time to focus\, connect\, and get things done (together).\nBring your laptop\, grab a coffee\, and make progress alongside like-minded women.\n\n📍 Location: Combo\, Corso Regina Margherita 128\, Torino\n⏰ Time: Wednesdays\, starting at 9:30\n  \nRSVP: please RSVP on Co-Working WhatsApp Chat
URL:https://iwct.it/event/iwct-talent-lab-co-working/2026-04-29/
LOCATION:Combo\, Corso Regina Margherita\, 128\, Torino\, Torino\, 10152\, Italy
CATEGORIES:Coworking,IWCT Activity
ATTACH;FMTTYPE=image/jpeg:https://iwct.it/wp-content/uploads/2025/10/Co-Working.jpg
ORGANIZER;CN="Rachel":MAILTO:coworking@iwct.it
END:VEVENT
BEGIN:VEVENT
DTSTART;TZID=Europe/Rome:20260429T110000
DTEND;TZID=Europe/Rome:20260429T140000
DTSTAMP:20260424T083750
CREATED:20260326T204642Z
LAST-MODIFIED:20260326T215332Z
UID:10003088-1777460400-1777471200@iwct.it
SUMMARY:Basic Italian Cooking - Asparagus Cooking Class
DESCRIPTION: Asparagus Cooking Class – Limited Spots! \n\n Wednesday\, 29 April\nAsparagus season is here! Do you know what to do with fresh green asparagus?\nJoin Daniela in her kitchen for a cozy\, hands-on cooking class where you’ll learn how to prepare a variety of delicious asparagus dishes.\n Small group experience (max. 5 ladies)\n Followed by a shared lunch\nSpots are very limited\, so reserve your place early!
URL:https://iwct.it/event/basic-italian-cooking-29april/
LOCATION:Check the Basic Italian Cooking WhatsApp Chat
CATEGORIES:Cooking Classes,IWCT Activity
ATTACH;FMTTYPE=image/jpeg:https://iwct.it/wp-content/uploads/2025/08/ital-cooking.jpg
ORGANIZER;CN="Daniela G.":MAILTO:italiancooking@iwct.it
END:VEVENT
END:VCALENDAR