BEGIN:VCALENDAR
VERSION:2.0
PRODID:-//IWCT - ECPv6.15.20//NONSGML v1.0//EN
CALSCALE:GREGORIAN
METHOD:PUBLISH
X-WR-CALNAME:IWCT
X-ORIGINAL-URL:https://iwct.it
X-WR-CALDESC:Events for IWCT
REFRESH-INTERVAL;VALUE=DURATION:PT1H
X-Robots-Tag:noindex
X-PUBLISHED-TTL:PT1H
BEGIN:VTIMEZONE
TZID:Europe/Rome
BEGIN:DAYLIGHT
TZOFFSETFROM:+0100
TZOFFSETTO:+0200
TZNAME:CEST
DTSTART:20250330T010000
END:DAYLIGHT
BEGIN:STANDARD
TZOFFSETFROM:+0200
TZOFFSETTO:+0100
TZNAME:CET
DTSTART:20251026T010000
END:STANDARD
BEGIN:DAYLIGHT
TZOFFSETFROM:+0100
TZOFFSETTO:+0200
TZNAME:CEST
DTSTART:20260329T010000
END:DAYLIGHT
BEGIN:STANDARD
TZOFFSETFROM:+0200
TZOFFSETTO:+0100
TZNAME:CET
DTSTART:20261025T010000
END:STANDARD
BEGIN:DAYLIGHT
TZOFFSETFROM:+0100
TZOFFSETTO:+0200
TZNAME:CEST
DTSTART:20270328T010000
END:DAYLIGHT
BEGIN:STANDARD
TZOFFSETFROM:+0200
TZOFFSETTO:+0100
TZNAME:CET
DTSTART:20271031T010000
END:STANDARD
END:VTIMEZONE
BEGIN:VEVENT
DTSTART;TZID=Europe/Rome:20260514T100000
DTEND;TZID=Europe/Rome:20260514T120000
DTSTAMP:20260425T202244
CREATED:20260420T154940Z
LAST-MODIFIED:20260425T074539Z
UID:10003098-1778752800-1778760000@iwct.it
SUMMARY:Walking Group & Happenings Special Activity
DESCRIPTION:Walking to Happenings \nAll Paths Lead to the Botanical Gardens\nOn Thursday\, May 14th at 10:00 am\, one of the most inclusive IWCT activities will take place as usual.  We’ll meet near the arch at Parco del Valentino and follow Linda along the park’s winding paths. By around 10:45 am\, we’ll arrive in front of the Orto Botanico dell’Università di Torino—a place many of us have passed by without fully exploring.\nFounded in 1729\, the Botanical Garden of the University of Turin is not only a delight for the senses but also an important research site.\nAt this point\, the Happenings group will take over: Gaia\, one of the garden’s botanists and researchers\, will guide us through its diverse collections. You’ll discover fascinating plant life from different regions of the world\, including:  Alpine vegetation\, Tropical plants\, Succulent species\, The greenhouse collections.  The guided tour will last about one hour and will be conducted in English.\n\n Practical Info\n\n\nOption 1: Join the walk at 10:00 am (Parco del Valentino\, near the arch)\n\n\nOption 2: Meet directly at 10:45 am in front of the Botanical Garden\n(Viale Pier Andrea Mattioli 25\, next to Valentino Castle)\n\n\n Botanical Garden visit: Limited to 25 participants → sign-up required.  RSVP below.\n\n\n Thursday walk: Open to everyone\, no sign-up needed\n\n\n \n\n 
URL:https://iwct.it/event/may14/
LOCATION:Botanical Garden (Next to Valentino Castle)\, Viale Pier Andrea Mattioli 25\, Torino\, Pidmonte\, Italy
CATEGORIES:Happenings,IWCT Activity,Walking Group
ATTACH;FMTTYPE=image/jpeg:https://iwct.it/wp-content/uploads/2026/04/Walking-Happenings.jpg
ORGANIZER;CN="Zoe & Caterina":MAILTO:happenings@iwct.it
END:VEVENT
END:VCALENDAR