BEGIN:VCALENDAR
VERSION:2.0
PRODID:-//IWCT - ECPv6.15.20//NONSGML v1.0//EN
CALSCALE:GREGORIAN
METHOD:PUBLISH
X-ORIGINAL-URL:https://iwct.it
X-WR-CALDESC:Events for IWCT
REFRESH-INTERVAL;VALUE=DURATION:PT1H
X-Robots-Tag:noindex
X-PUBLISHED-TTL:PT1H
BEGIN:VTIMEZONE
TZID:Europe/Rome
BEGIN:DAYLIGHT
TZOFFSETFROM:+0100
TZOFFSETTO:+0200
TZNAME:CEST
DTSTART:20250330T010000
END:DAYLIGHT
BEGIN:STANDARD
TZOFFSETFROM:+0200
TZOFFSETTO:+0100
TZNAME:CET
DTSTART:20251026T010000
END:STANDARD
BEGIN:DAYLIGHT
TZOFFSETFROM:+0100
TZOFFSETTO:+0200
TZNAME:CEST
DTSTART:20260329T010000
END:DAYLIGHT
BEGIN:STANDARD
TZOFFSETFROM:+0200
TZOFFSETTO:+0100
TZNAME:CET
DTSTART:20261025T010000
END:STANDARD
BEGIN:DAYLIGHT
TZOFFSETFROM:+0100
TZOFFSETTO:+0200
TZNAME:CEST
DTSTART:20270328T010000
END:DAYLIGHT
BEGIN:STANDARD
TZOFFSETFROM:+0200
TZOFFSETTO:+0100
TZNAME:CET
DTSTART:20271031T010000
END:STANDARD
END:VTIMEZONE
BEGIN:VEVENT
DTSTART;TZID=Europe/Rome:20260317T100000
DTEND;TZID=Europe/Rome:20260317T120000
DTSTAMP:20260419T143737
CREATED:20250929T112811Z
LAST-MODIFIED:20251006T090545Z
UID:10000883-1773741600-1773748800@iwct.it
SUMMARY:IWCT Mom’s Group Coffee Morning
DESCRIPTION:Join fellow IWCT moms for coffee and friendly conversation. Stay as  long—or as briefly—as you like. Babies and fur babies are always welcome!  Please check the IWCT Moms’ GroupWhatsApp group for any last minute changes.\nTime:  10 to 12 noon\nLocation:  Pastarell\, Corso Vittorio Emanuele II 80\, 10123 Torino\nRSVP:  On the IWCT Moms’ Group Whatspp chat.\nNeed More Information:  Contact Gianna  (moms@iwct.it)
URL:https://iwct.it/event/iwct-moms-group-coffee-morning/2026-03-17/
LOCATION:Pastarell\, Corso Vittorio Emanuele II 80\, Torino\, Pidmonte\, 10123\, Italy
CATEGORIES:IWCT Activity,Mom's Group
ATTACH;FMTTYPE=image/jpeg:https://iwct.it/wp-content/uploads/2025/08/moms.jpg
ORGANIZER;CN="Gianna":MAILTO:moms@iwct.it
END:VEVENT
BEGIN:VEVENT
DTSTART;TZID=Europe/Rome:20260317T150000
DTEND;TZID=Europe/Rome:20260317T163000
DTSTAMP:20260419T143737
CREATED:20260126T195752Z
LAST-MODIFIED:20260314T183223Z
UID:10002821-1773759600-1773765000@iwct.it
SUMMARY:English Conversation
DESCRIPTION:Want to boost your English in a warm\, relaxed atmosphere? Join the IWCT English Conversation Group!  We chat\, read\, and explore short stories while expanding vocabulary and brushing up on grammar—always matched to your level and interests.  We meet twice a month…usually at Bar Meucci\, though the venue may occasionally change—so be sure to check the English Conversation WhatsApp group for the latest updates.\nNeed more information?  Contact Zoe at english@iwct.it\nDate:  Tuesdays\nTime:  3 pm to 4:40 pm\nLocation: Bar Meucci
URL:https://iwct.it/event/english-conversation-2/2026-03-17/
LOCATION:Bar Meucci\, Via Confienza\, 9\, Torino\, Piedmont\, 10121\, Italy
CATEGORIES:English Language,IWCT Activity
ATTACH;FMTTYPE=image/jpeg:https://iwct.it/wp-content/uploads/2025/09/English-Conversation.jpg
ORGANIZER;CN="Zoe":MAILTO:english@iwct.it
END:VEVENT
END:VCALENDAR