BEGIN:VCALENDAR
VERSION:2.0
PRODID:-//IWCT - ECPv6.15.20//NONSGML v1.0//EN
CALSCALE:GREGORIAN
METHOD:PUBLISH
X-WR-CALNAME:IWCT
X-ORIGINAL-URL:https://iwct.it
X-WR-CALDESC:Events for IWCT
REFRESH-INTERVAL;VALUE=DURATION:PT1H
X-Robots-Tag:noindex
X-PUBLISHED-TTL:PT1H
BEGIN:VTIMEZONE
TZID:Europe/Rome
BEGIN:DAYLIGHT
TZOFFSETFROM:+0100
TZOFFSETTO:+0200
TZNAME:CEST
DTSTART:20250330T010000
END:DAYLIGHT
BEGIN:STANDARD
TZOFFSETFROM:+0200
TZOFFSETTO:+0100
TZNAME:CET
DTSTART:20251026T010000
END:STANDARD
BEGIN:DAYLIGHT
TZOFFSETFROM:+0100
TZOFFSETTO:+0200
TZNAME:CEST
DTSTART:20260329T010000
END:DAYLIGHT
BEGIN:STANDARD
TZOFFSETFROM:+0200
TZOFFSETTO:+0100
TZNAME:CET
DTSTART:20261025T010000
END:STANDARD
BEGIN:DAYLIGHT
TZOFFSETFROM:+0100
TZOFFSETTO:+0200
TZNAME:CEST
DTSTART:20270328T010000
END:DAYLIGHT
BEGIN:STANDARD
TZOFFSETFROM:+0200
TZOFFSETTO:+0100
TZNAME:CET
DTSTART:20271031T010000
END:STANDARD
END:VTIMEZONE
BEGIN:VEVENT
DTSTART;TZID=Europe/Rome:20260929T100000
DTEND;TZID=Europe/Rome:20260929T120000
DTSTAMP:20260424T103400
CREATED:20250929T112811Z
LAST-MODIFIED:20251006T090545Z
UID:10000897-1790676000-1790683200@iwct.it
SUMMARY:IWCT Mom’s Group Coffee Morning
DESCRIPTION:Join fellow IWCT moms for coffee and friendly conversation. Stay as  long—or as briefly—as you like. Babies and fur babies are always welcome!  Please check the IWCT Moms’ GroupWhatsApp group for any last minute changes.\nTime:  10 to 12 noon\nLocation:  Pastarell\, Corso Vittorio Emanuele II 80\, 10123 Torino\nRSVP:  On the IWCT Moms’ Group Whatspp chat.\nNeed More Information:  Contact Gianna  (moms@iwct.it)
URL:https://iwct.it/event/iwct-moms-group-coffee-morning/2026-09-29/
LOCATION:Pastarell\, Corso Vittorio Emanuele II 80\, Torino\, Pidmonte\, 10123\, Italy
CATEGORIES:IWCT Activity,Mom's Group
ATTACH;FMTTYPE=image/jpeg:https://iwct.it/wp-content/uploads/2025/08/moms.jpg
ORGANIZER;CN="Gianna":MAILTO:moms@iwct.it
END:VEVENT
BEGIN:VEVENT
DTSTART;TZID=Europe/Rome:20260929T103000
DTEND;TZID=Europe/Rome:20260929T123000
DTSTAMP:20260424T103400
CREATED:20250919T155436Z
LAST-MODIFIED:20250919T155436Z
UID:10000525-1790677800-1790685000@iwct.it
SUMMARY:IWCT Literary Circle
DESCRIPTION:Welcome back IWCT Ladies from your summer holidays.  Let’s continue our Year of Stories…Mark your calendar and plan to join us for this month’s Literary Circle presentation on Tuesday\, September 29th. The book selected for our September  presentation is “Rules of Civility” by Amor Towles (2012/ 368 pages).  Presented by David Pickup\nOn the last night of 1937\, twenty-five-year-old Katey Kontent is in a second-rate Greenwich Village jazz bar when Tinker Grey\, a handsome banker\, happens to sit down at the neighboring table. This chance encounter and its startling consequences propel Katey on a year-long journey into the upper echelons of New York society—where she will have little to rely upon other than a bracing wit and her own brand of cool nerve.\nDate:  September 29th\nTime:  10:30 to 12:30\nLocation:  Circolo dei Lettori in Via Giambattista Bogino 9\, Torino\nJoin the IWCT Literary Circle WhatsApp Chat:  To stay up to date on what’s happening in the IWCT Literary Circle.\nNeed More Information:  Contact Tamara (literarycircle@iwct.it)
URL:https://iwct.it/event/iwct-literary-circle-sept2026/
LOCATION:Circolo dei Lettori\, Via Bogino 9\, Torino\, Italy
CATEGORIES:IWCT Activity,Literary Circle
ATTACH;FMTTYPE=image/jpeg:https://iwct.it/wp-content/uploads/2025/08/iwct-literary-circle.jpg
ORGANIZER;CN="Tamara":MAILTO:literarycircle@iwct.it
END:VEVENT
END:VCALENDAR