BEGIN:VCALENDAR
VERSION:2.0
PRODID:-//IWCT - ECPv6.15.20//NONSGML v1.0//EN
CALSCALE:GREGORIAN
METHOD:PUBLISH
X-WR-CALNAME:IWCT
X-ORIGINAL-URL:https://iwct.it
X-WR-CALDESC:Events for IWCT
REFRESH-INTERVAL;VALUE=DURATION:PT1H
X-Robots-Tag:noindex
X-PUBLISHED-TTL:PT1H
BEGIN:VTIMEZONE
TZID:Europe/Rome
BEGIN:DAYLIGHT
TZOFFSETFROM:+0100
TZOFFSETTO:+0200
TZNAME:CEST
DTSTART:20240331T010000
END:DAYLIGHT
BEGIN:STANDARD
TZOFFSETFROM:+0200
TZOFFSETTO:+0100
TZNAME:CET
DTSTART:20241027T010000
END:STANDARD
BEGIN:DAYLIGHT
TZOFFSETFROM:+0100
TZOFFSETTO:+0200
TZNAME:CEST
DTSTART:20250330T010000
END:DAYLIGHT
BEGIN:STANDARD
TZOFFSETFROM:+0200
TZOFFSETTO:+0100
TZNAME:CET
DTSTART:20251026T010000
END:STANDARD
BEGIN:DAYLIGHT
TZOFFSETFROM:+0100
TZOFFSETTO:+0200
TZNAME:CEST
DTSTART:20260329T010000
END:DAYLIGHT
BEGIN:STANDARD
TZOFFSETFROM:+0200
TZOFFSETTO:+0100
TZNAME:CET
DTSTART:20261025T010000
END:STANDARD
END:VTIMEZONE
BEGIN:VEVENT
DTSTART;TZID=Europe/Rome:20251130T103000
DTEND;TZID=Europe/Rome:20251130T130000
DTSTAMP:20260424T065336
CREATED:20251120T131840Z
LAST-MODIFIED:20251128T191809Z
UID:10001955-1764498600-1764507600@iwct.it
SUMMARY:Mom's Group - Movie in English
DESCRIPTION:Our popular movie event is back!\nJoin us for Zootopia 2 in English! After the movie\, many families like to stay and enjoy lunch together at the mall.\n📅 Date: Sunday\, November 30\n⏰ Time: 10:300 AM\nPlease arrive by 10:00am to check in and buy any food/drink. The film will start at 10:30 without any previews. Last time to check in will be 10:20\n📍 Location: UCI Cinema Lingotto (Via Nizza 262\, Torino)\nParking in Section L only can be validated for 3 hours of free parking.\n🎟 Ticket Price:\n\n\n\n€5 for Members\n\n\n€7.50 for Non-Members
URL:https://iwct.it/event/moms-group-movie-in-english-30nov/
LOCATION:UCI Cinema Lingotto\, Via Nizza 262\, Turin\, 10126\, Italy
CATEGORIES:Mom's Group,Movie Time
ATTACH;FMTTYPE=image/png:https://iwct.it/wp-content/uploads/2025/11/Moms-Group-Movie.png
ORGANIZER;CN="Gianna":MAILTO:moms@iwct.it
END:VEVENT
BEGIN:VEVENT
DTSTART;TZID=Europe/Rome:20250903T201500
DTEND;TZID=Europe/Rome:20250903T220000
DTSTAMP:20260424T065336
CREATED:20250901T190017Z
LAST-MODIFIED:20250901T190104Z
UID:10000277-1756930500-1756936800@iwct.it
SUMMARY:Movie Time
DESCRIPTION:We’ll be watching The Roses – a remake of The War of the Roses\, shown in the original version and starring Olivia Colman and Benedict Cumberbatch. \n📅 Date: September 3rd \n🕗 Time: 20:15 \n📍 Location: Greenwich Village\, Via Po \nIt will be a great chance to enjoy the film all together  — we hope you can join us!
URL:https://iwct.it/event/movie-time-september-3rd/
LOCATION:Greenwich Village\, Via Po\, 30\, Turin\, 10123\, Italy
CATEGORIES:IWCT Activity,Movie Time
ATTACH;FMTTYPE=image/jpeg:https://iwct.it/wp-content/uploads/2025/08/movie-time.jpg
END:VEVENT
END:VCALENDAR