BEGIN:VCALENDAR
VERSION:2.0
PRODID:-//IWCT - ECPv6.15.20//NONSGML v1.0//EN
CALSCALE:GREGORIAN
METHOD:PUBLISH
X-WR-CALNAME:IWCT
X-ORIGINAL-URL:https://iwct.it
X-WR-CALDESC:Events for IWCT
REFRESH-INTERVAL;VALUE=DURATION:PT1H
X-Robots-Tag:noindex
X-PUBLISHED-TTL:PT1H
BEGIN:VTIMEZONE
TZID:Europe/Rome
BEGIN:DAYLIGHT
TZOFFSETFROM:+0100
TZOFFSETTO:+0200
TZNAME:CEST
DTSTART:20240331T010000
END:DAYLIGHT
BEGIN:STANDARD
TZOFFSETFROM:+0200
TZOFFSETTO:+0100
TZNAME:CET
DTSTART:20241027T010000
END:STANDARD
BEGIN:DAYLIGHT
TZOFFSETFROM:+0100
TZOFFSETTO:+0200
TZNAME:CEST
DTSTART:20250330T010000
END:DAYLIGHT
BEGIN:STANDARD
TZOFFSETFROM:+0200
TZOFFSETTO:+0100
TZNAME:CET
DTSTART:20251026T010000
END:STANDARD
BEGIN:DAYLIGHT
TZOFFSETFROM:+0100
TZOFFSETTO:+0200
TZNAME:CEST
DTSTART:20260329T010000
END:DAYLIGHT
BEGIN:STANDARD
TZOFFSETFROM:+0200
TZOFFSETTO:+0100
TZNAME:CET
DTSTART:20261025T010000
END:STANDARD
END:VTIMEZONE
BEGIN:VEVENT
DTSTART;TZID=Europe/Rome:20250506T103000
DTEND;TZID=Europe/Rome:20250506T123000
DTSTAMP:20260426T014614
CREATED:20241107T182812Z
LAST-MODIFIED:20250815T194259Z
UID:10000029-1746527400-1746534600@iwct.it
SUMMARY:Book Club
DESCRIPTION:Join us for this month’s Book Club presentation on Tuesday\, May 6th. (But the date may change because of the holiday.  So check the Book Club WhatsApp Chat for any changes.)   The book this month is “A Gentleman in Moscow” by Amor Towles (2016/ 480 pages).  Presented by: David Pickup\nA Gentleman in Moscow immerses us in another elegantly drawn era with the story of Count Alexander Rostov. When\, in 1922\, he was deemed an unrepentant aristocrat by a Bolshevik tribunal\, the count was sentenced to house arrest in the Metropol\, a grand hotel across the street from the Kremlin. Rostov\, an indomitable man of erudition and wit\, has never worked a day in his life\, and must now live in an attic room while some of the most tumultuous decades in Russian history are unfolding outside the hotel’s doors. Unexpectedly\, his reduced circumstances provide him a doorway into a much larger world of emotional discovery. Brimming with humour\, a glittering cast of characters\, and one beautifully rendered scene after another\, this singular novel casts a spell as it relates the count’s endeavour to gain a deeper understanding of what it means to be a man of purpose.\nSo\, mark your calendars and plan to join us.   We meet at the Circolo dei Lettori in Via Giambattista Bogino 9 at 10:30 AM.\nIf you would like more information\, please contact Tamara at bookclub@iwct.it   Also\, remember to join the Book Club WhatsApp chat to stay up to date on the latest information about the Book Club.
URL:https://iwct.it/event/book-club-april2025/
LOCATION:Circolo dei Lettori\, Via Bogino 9\, Torino\, Italy
CATEGORIES:IWCT Activity,Literary Circle
ORGANIZER;CN="Tamara":MAILTO:literarycircle@iwct.it
END:VEVENT
BEGIN:VEVENT
DTSTART;TZID=Europe/Rome:20250506T100000
DTEND;TZID=Europe/Rome:20250506T120000
DTSTAMP:20260426T014614
CREATED:20250421T143833Z
LAST-MODIFIED:20250815T194030Z
UID:10000050-1746525600-1746532800@iwct.it
SUMMARY:Coffee Morning
DESCRIPTION:Coffee Morning this month is Tuesday\, May 6th from 10 am to noon.  It’s the last coffee morning before the AGM and our summer holidays.  So\, mark your calendars and join your friends to catch-up on the latest news and to share plans for summer holidays.\nThis month’s coffee morning is at Norman (Via Pietro Micca\, 22).\nDon’t forget to sign-up below by May 4th for IWCT favorite monthly gathering.
URL:https://iwct.it/event/coffee-morning-may2025/
LOCATION:Norman\, Via Pietro Micca\, 22\, Torino\, TO\, 10122\, Italy
CATEGORIES:Club Event
ORGANIZER;CN="Tatyana":MAILTO:events@iwct.it
END:VEVENT
BEGIN:VEVENT
DTSTART;TZID=Europe/Rome:20250429T150000
DTEND;TZID=Europe/Rome:20250429T163000
DTSTAMP:20260426T014614
CREATED:20240724T193440Z
LAST-MODIFIED:20250815T200819Z
UID:10000035-1745938800-1745944200@iwct.it
SUMMARY:English Conversation
DESCRIPTION:English Conversation Group…If you are looking to improve your English language skills in a relaxed and convivial environment\, we would love to have you join the IWCT English Conversation group.  We will adapt the sessions according to your ability and needs.  The group meets weekly…twice a month on Zoom and twice a month in person.\nZoom Meetings:  Merry Boggs is the activity leader for the Zoom meetings.  Merry posts the  Zoom Login weekly on the group’s WhatsApp Chat.  The Zoom meetings are September 10\, October 1 & 15\, November 5 & 19\, December 3\, January 14\, February 4 & 18\, March 4 & 18\, April 1\, May 6 & 20\, June 3.\nIn-Person Meetings:  Zoe Hall is the activity leader for the in person meetings. The in-person meetings are at Bar Meucci\, Via Confienza 9.  The group meets on September 24\, October 8 & 22\, November 12 & 26\, December 17\, January 28\, February 11 & 25\, March 11 & 25\, April 22\, May 13 & 27\, June 17.\nFor more information about the English Conversation Group contact Merry and Zoe at english@iwct.it or on the English Conversation IWCT WhatsApp chat.\nRemember to join the English Conversation WhatsApp chat.  It’s a great way to stay up to date on the group’s latest information.\nHave fun mastering your English Language skills!
URL:https://iwct.it/event/english-conversation-inperson-2025-04-22/
LOCATION:Bar Meucci\, Via Confienza\, 9\, Torino\, Piedmont\, 10121\, Italy
CATEGORIES:English Language,IWCT Activity
ATTACH;FMTTYPE=image/jpeg:https://iwct.it/wp-content/uploads/2025/08/english-conversation.jpg
ORGANIZER;CN="Zoe":MAILTO:english@iwct.it
END:VEVENT
BEGIN:VEVENT
DTSTART;TZID=Europe/Rome:20250425T193000
DTEND;TZID=Europe/Rome:20250425T233000
DTSTAMP:20260426T014614
CREATED:20250330T192542Z
LAST-MODIFIED:20260408T054553Z
UID:10000042-1745609400-1745623800@iwct.it
SUMMARY:After Hours Aperitivo
DESCRIPTION:Mark your calendars…Join us on Friday\, April 25th for our monthly IWCT Club After-Hours Aperitivo. The fun starts at 7:30 pm but join us any time you like.   For all who are busy at work during office hours\, this is your time to catch up and enjoy an evening with your IWCT friends.\nLocation:  Cocktail Bar Torino – Camping Bar   Via Sant’Anselmo\, 34/b\, 10125\, Torino
URL:https://iwct.it/event/after-hours-april2025/
LOCATION:Cocktail Bar Torino – Camping Bar\, Via Sant'Anselmo\, 34/b\, Torino\, Piedmont\, 10123
CATEGORIES:After Hours,Club Event
ORGANIZER;CN="Tatyana":MAILTO:events@iwct.it
END:VEVENT
END:VCALENDAR