BEGIN:VCALENDAR
VERSION:2.0
PRODID:-//IWCT - ECPv6.15.20//NONSGML v1.0//EN
CALSCALE:GREGORIAN
METHOD:PUBLISH
X-ORIGINAL-URL:https://iwct.it
X-WR-CALDESC:Events for IWCT
REFRESH-INTERVAL;VALUE=DURATION:PT1H
X-Robots-Tag:noindex
X-PUBLISHED-TTL:PT1H
BEGIN:VTIMEZONE
TZID:Europe/Rome
BEGIN:DAYLIGHT
TZOFFSETFROM:+0100
TZOFFSETTO:+0200
TZNAME:CEST
DTSTART:20300331T010000
END:DAYLIGHT
BEGIN:STANDARD
TZOFFSETFROM:+0200
TZOFFSETTO:+0100
TZNAME:CET
DTSTART:20301027T010000
END:STANDARD
BEGIN:DAYLIGHT
TZOFFSETFROM:+0100
TZOFFSETTO:+0200
TZNAME:CEST
DTSTART:20310330T010000
END:DAYLIGHT
BEGIN:STANDARD
TZOFFSETFROM:+0200
TZOFFSETTO:+0100
TZNAME:CET
DTSTART:20311026T010000
END:STANDARD
BEGIN:DAYLIGHT
TZOFFSETFROM:+0100
TZOFFSETTO:+0200
TZNAME:CEST
DTSTART:20320328T010000
END:DAYLIGHT
BEGIN:STANDARD
TZOFFSETFROM:+0200
TZOFFSETTO:+0100
TZNAME:CET
DTSTART:20321031T010000
END:STANDARD
END:VTIMEZONE
BEGIN:VEVENT
DTSTART;TZID=Europe/Rome:20310321T100000
DTEND;TZID=Europe/Rome:20310321T110000
DTSTAMP:20260423T225209
CREATED:20251010T144058Z
LAST-MODIFIED:20260421T152430Z
UID:10003410-1931853600-1931857200@iwct.it
SUMMARY:IWCT Pickleball
DESCRIPTION:🎾 IWCT Game On! – Pickleball with Mike English\nLooking for a fun\, social way to stay active? Mike English\, expert instructor at DLF Torino\, has reserved exclusive court times just for IWCT members and friends!\nNever played pickleball before? Perfect!\nThis fast-growing\, easy-to-learn\, and low-impact sport is ideal for all skill levels. Mike will personally guide you through the basics—no experience (or special equipment) required. Just bring a pair of tennis shoes and your enthusiasm!\nEven if you’re not usually into sports\, this is a great opportunity to try something new\, get moving\, and enjoy time with fellow IWCT members.\n🗓 Court Times Reserved for IWCT Members & Friends\n• Mondays:9 am to 10 am\n• Fridays: 10 am to 11 am\n  \n📍 Location:\nDLF Torino\nCorso Rosselli 153\, 10141 Torino\n  \n✅ To RSVP & Reserve Your Spot\nJoin Mike’s AIRS Pickleball for IWCT WhatsApp group.\nMessage Mike at +39 335 761 0979 to be added.\n  \nℹ️ Need More Info?\nThe AIRS Pickleball for IWCT chat is the place to:\n• Ask questions\n• Get updates\n• Connect with other members interested in playing\n  \nYou can also join the IWCT Pickleball WhatsApp chat to stay connected with the wider community.
URL:https://iwct.it/event/iwct-pickleball-2/2031-03-21/
LOCATION:DLF Torino\, Corso Rosselli 153\, Torino\, Pidmonte\, 10141\, Italy
CATEGORIES:IWCT Activity,Pickleball
ATTACH;FMTTYPE=image/jpeg:https://iwct.it/wp-content/uploads/2025/10/Pickleball.jpg
ORGANIZER;CN="Linda Cameron":MAILTO:pickleball@iwct.it
END:VEVENT
BEGIN:VEVENT
DTSTART;TZID=Europe/Rome:20310324T090000
DTEND;TZID=Europe/Rome:20310324T100000
DTSTAMP:20260423T225209
CREATED:20260421T140338Z
LAST-MODIFIED:20260421T152606Z
UID:10003671-1932109200-1932112800@iwct.it
SUMMARY:IWCT Pickleball
DESCRIPTION:🎾 IWCT Game On! – Pickleball with Mike English\nLooking for a fun\, social way to stay active? Mike English\, expert instructor at DLF Torino\, has reserved exclusive court times just for IWCT members and friends!\nNever played pickleball before? Perfect!\nThis fast-growing\, easy-to-learn\, and low-impact sport is ideal for all skill levels. Mike will personally guide you through the basics—no experience (or special equipment) required. Just bring a pair of tennis shoes and your enthusiasm!\nEven if you’re not usually into sports\, this is a great opportunity to try something new\, get moving\, and enjoy time with fellow IWCT members.\n🗓 Court Times Reserved for IWCT Members \n• Mondays: 9 am – 10 am\n• Fridays: 10 am – 11 am\n  \n📍 Location:\nDLF Torino\nCorso Rosselli 153\, 10141 Torino\n  \n✅ To RSVP & Reserve Your Spot\nJoin Mike’s AIRS Pickleball for IWCT WhatsApp group.\nMessage Mike at +39 335 761 0979 to be added.\n  \nℹ️ Need More Info?\nThe AIRS Pickleball for IWCT chat is the place to:\n• Ask questions\n• Get updates\n• Connect with other members interested in playing\n  \nYou can also join the IWCT Pickleball WhatsApp chat to stay connected with the wider community.
URL:https://iwct.it/event/iwct-pickleball-3/2031-03-24/
LOCATION:DLF Torino\, Corso Rosselli 153\, Torino\, Pidmonte\, 10141\, Italy
CATEGORIES:IWCT Activity,Pickleball
ATTACH;FMTTYPE=image/jpeg:https://iwct.it/wp-content/uploads/2025/10/Pickleball.jpg
ORGANIZER;CN="Linda Cameron":MAILTO:walking@iwct.it
END:VEVENT
BEGIN:VEVENT
DTSTART;TZID=Europe/Rome:20310328T100000
DTEND;TZID=Europe/Rome:20310328T110000
DTSTAMP:20260423T225209
CREATED:20251010T144058Z
LAST-MODIFIED:20260421T152430Z
UID:10003411-1932458400-1932462000@iwct.it
SUMMARY:IWCT Pickleball
DESCRIPTION:🎾 IWCT Game On! – Pickleball with Mike English\nLooking for a fun\, social way to stay active? Mike English\, expert instructor at DLF Torino\, has reserved exclusive court times just for IWCT members and friends!\nNever played pickleball before? Perfect!\nThis fast-growing\, easy-to-learn\, and low-impact sport is ideal for all skill levels. Mike will personally guide you through the basics—no experience (or special equipment) required. Just bring a pair of tennis shoes and your enthusiasm!\nEven if you’re not usually into sports\, this is a great opportunity to try something new\, get moving\, and enjoy time with fellow IWCT members.\n🗓 Court Times Reserved for IWCT Members & Friends\n• Mondays:9 am to 10 am\n• Fridays: 10 am to 11 am\n  \n📍 Location:\nDLF Torino\nCorso Rosselli 153\, 10141 Torino\n  \n✅ To RSVP & Reserve Your Spot\nJoin Mike’s AIRS Pickleball for IWCT WhatsApp group.\nMessage Mike at +39 335 761 0979 to be added.\n  \nℹ️ Need More Info?\nThe AIRS Pickleball for IWCT chat is the place to:\n• Ask questions\n• Get updates\n• Connect with other members interested in playing\n  \nYou can also join the IWCT Pickleball WhatsApp chat to stay connected with the wider community.
URL:https://iwct.it/event/iwct-pickleball-2/2031-03-28/
LOCATION:DLF Torino\, Corso Rosselli 153\, Torino\, Pidmonte\, 10141\, Italy
CATEGORIES:IWCT Activity,Pickleball
ATTACH;FMTTYPE=image/jpeg:https://iwct.it/wp-content/uploads/2025/10/Pickleball.jpg
ORGANIZER;CN="Linda Cameron":MAILTO:pickleball@iwct.it
END:VEVENT
BEGIN:VEVENT
DTSTART;TZID=Europe/Rome:20310331T090000
DTEND;TZID=Europe/Rome:20310331T100000
DTSTAMP:20260423T225209
CREATED:20260421T140338Z
LAST-MODIFIED:20260421T152606Z
UID:10003672-1932714000-1932717600@iwct.it
SUMMARY:IWCT Pickleball
DESCRIPTION:🎾 IWCT Game On! – Pickleball with Mike English\nLooking for a fun\, social way to stay active? Mike English\, expert instructor at DLF Torino\, has reserved exclusive court times just for IWCT members and friends!\nNever played pickleball before? Perfect!\nThis fast-growing\, easy-to-learn\, and low-impact sport is ideal for all skill levels. Mike will personally guide you through the basics—no experience (or special equipment) required. Just bring a pair of tennis shoes and your enthusiasm!\nEven if you’re not usually into sports\, this is a great opportunity to try something new\, get moving\, and enjoy time with fellow IWCT members.\n🗓 Court Times Reserved for IWCT Members \n• Mondays: 9 am – 10 am\n• Fridays: 10 am – 11 am\n  \n📍 Location:\nDLF Torino\nCorso Rosselli 153\, 10141 Torino\n  \n✅ To RSVP & Reserve Your Spot\nJoin Mike’s AIRS Pickleball for IWCT WhatsApp group.\nMessage Mike at +39 335 761 0979 to be added.\n  \nℹ️ Need More Info?\nThe AIRS Pickleball for IWCT chat is the place to:\n• Ask questions\n• Get updates\n• Connect with other members interested in playing\n  \nYou can also join the IWCT Pickleball WhatsApp chat to stay connected with the wider community.
URL:https://iwct.it/event/iwct-pickleball-3/2031-03-31/
LOCATION:DLF Torino\, Corso Rosselli 153\, Torino\, Pidmonte\, 10141\, Italy
CATEGORIES:IWCT Activity,Pickleball
ATTACH;FMTTYPE=image/jpeg:https://iwct.it/wp-content/uploads/2025/10/Pickleball.jpg
ORGANIZER;CN="Linda Cameron":MAILTO:walking@iwct.it
END:VEVENT
BEGIN:VEVENT
DTSTART;TZID=Europe/Rome:20310404T100000
DTEND;TZID=Europe/Rome:20310404T110000
DTSTAMP:20260423T225209
CREATED:20251010T144058Z
LAST-MODIFIED:20260421T152430Z
UID:10003412-1933063200-1933066800@iwct.it
SUMMARY:IWCT Pickleball
DESCRIPTION:🎾 IWCT Game On! – Pickleball with Mike English\nLooking for a fun\, social way to stay active? Mike English\, expert instructor at DLF Torino\, has reserved exclusive court times just for IWCT members and friends!\nNever played pickleball before? Perfect!\nThis fast-growing\, easy-to-learn\, and low-impact sport is ideal for all skill levels. Mike will personally guide you through the basics—no experience (or special equipment) required. Just bring a pair of tennis shoes and your enthusiasm!\nEven if you’re not usually into sports\, this is a great opportunity to try something new\, get moving\, and enjoy time with fellow IWCT members.\n🗓 Court Times Reserved for IWCT Members & Friends\n• Mondays:9 am to 10 am\n• Fridays: 10 am to 11 am\n  \n📍 Location:\nDLF Torino\nCorso Rosselli 153\, 10141 Torino\n  \n✅ To RSVP & Reserve Your Spot\nJoin Mike’s AIRS Pickleball for IWCT WhatsApp group.\nMessage Mike at +39 335 761 0979 to be added.\n  \nℹ️ Need More Info?\nThe AIRS Pickleball for IWCT chat is the place to:\n• Ask questions\n• Get updates\n• Connect with other members interested in playing\n  \nYou can also join the IWCT Pickleball WhatsApp chat to stay connected with the wider community.
URL:https://iwct.it/event/iwct-pickleball-2/2031-04-04/
LOCATION:DLF Torino\, Corso Rosselli 153\, Torino\, Pidmonte\, 10141\, Italy
CATEGORIES:IWCT Activity,Pickleball
ATTACH;FMTTYPE=image/jpeg:https://iwct.it/wp-content/uploads/2025/10/Pickleball.jpg
ORGANIZER;CN="Linda Cameron":MAILTO:pickleball@iwct.it
END:VEVENT
BEGIN:VEVENT
DTSTART;TZID=Europe/Rome:20310407T090000
DTEND;TZID=Europe/Rome:20310407T100000
DTSTAMP:20260423T225209
CREATED:20260421T140338Z
LAST-MODIFIED:20260421T152606Z
UID:10003673-1933318800-1933322400@iwct.it
SUMMARY:IWCT Pickleball
DESCRIPTION:🎾 IWCT Game On! – Pickleball with Mike English\nLooking for a fun\, social way to stay active? Mike English\, expert instructor at DLF Torino\, has reserved exclusive court times just for IWCT members and friends!\nNever played pickleball before? Perfect!\nThis fast-growing\, easy-to-learn\, and low-impact sport is ideal for all skill levels. Mike will personally guide you through the basics—no experience (or special equipment) required. Just bring a pair of tennis shoes and your enthusiasm!\nEven if you’re not usually into sports\, this is a great opportunity to try something new\, get moving\, and enjoy time with fellow IWCT members.\n🗓 Court Times Reserved for IWCT Members \n• Mondays: 9 am – 10 am\n• Fridays: 10 am – 11 am\n  \n📍 Location:\nDLF Torino\nCorso Rosselli 153\, 10141 Torino\n  \n✅ To RSVP & Reserve Your Spot\nJoin Mike’s AIRS Pickleball for IWCT WhatsApp group.\nMessage Mike at +39 335 761 0979 to be added.\n  \nℹ️ Need More Info?\nThe AIRS Pickleball for IWCT chat is the place to:\n• Ask questions\n• Get updates\n• Connect with other members interested in playing\n  \nYou can also join the IWCT Pickleball WhatsApp chat to stay connected with the wider community.
URL:https://iwct.it/event/iwct-pickleball-3/2031-04-07/
LOCATION:DLF Torino\, Corso Rosselli 153\, Torino\, Pidmonte\, 10141\, Italy
CATEGORIES:IWCT Activity,Pickleball
ATTACH;FMTTYPE=image/jpeg:https://iwct.it/wp-content/uploads/2025/10/Pickleball.jpg
ORGANIZER;CN="Linda Cameron":MAILTO:walking@iwct.it
END:VEVENT
BEGIN:VEVENT
DTSTART;TZID=Europe/Rome:20310411T100000
DTEND;TZID=Europe/Rome:20310411T110000
DTSTAMP:20260423T225209
CREATED:20251010T144058Z
LAST-MODIFIED:20260421T152430Z
UID:10003413-1933668000-1933671600@iwct.it
SUMMARY:IWCT Pickleball
DESCRIPTION:🎾 IWCT Game On! – Pickleball with Mike English\nLooking for a fun\, social way to stay active? Mike English\, expert instructor at DLF Torino\, has reserved exclusive court times just for IWCT members and friends!\nNever played pickleball before? Perfect!\nThis fast-growing\, easy-to-learn\, and low-impact sport is ideal for all skill levels. Mike will personally guide you through the basics—no experience (or special equipment) required. Just bring a pair of tennis shoes and your enthusiasm!\nEven if you’re not usually into sports\, this is a great opportunity to try something new\, get moving\, and enjoy time with fellow IWCT members.\n🗓 Court Times Reserved for IWCT Members & Friends\n• Mondays:9 am to 10 am\n• Fridays: 10 am to 11 am\n  \n📍 Location:\nDLF Torino\nCorso Rosselli 153\, 10141 Torino\n  \n✅ To RSVP & Reserve Your Spot\nJoin Mike’s AIRS Pickleball for IWCT WhatsApp group.\nMessage Mike at +39 335 761 0979 to be added.\n  \nℹ️ Need More Info?\nThe AIRS Pickleball for IWCT chat is the place to:\n• Ask questions\n• Get updates\n• Connect with other members interested in playing\n  \nYou can also join the IWCT Pickleball WhatsApp chat to stay connected with the wider community.
URL:https://iwct.it/event/iwct-pickleball-2/2031-04-11/
LOCATION:DLF Torino\, Corso Rosselli 153\, Torino\, Pidmonte\, 10141\, Italy
CATEGORIES:IWCT Activity,Pickleball
ATTACH;FMTTYPE=image/jpeg:https://iwct.it/wp-content/uploads/2025/10/Pickleball.jpg
ORGANIZER;CN="Linda Cameron":MAILTO:pickleball@iwct.it
END:VEVENT
BEGIN:VEVENT
DTSTART;TZID=Europe/Rome:20310414T090000
DTEND;TZID=Europe/Rome:20310414T100000
DTSTAMP:20260423T225209
CREATED:20260421T140338Z
LAST-MODIFIED:20260421T152606Z
UID:10003674-1933923600-1933927200@iwct.it
SUMMARY:IWCT Pickleball
DESCRIPTION:🎾 IWCT Game On! – Pickleball with Mike English\nLooking for a fun\, social way to stay active? Mike English\, expert instructor at DLF Torino\, has reserved exclusive court times just for IWCT members and friends!\nNever played pickleball before? Perfect!\nThis fast-growing\, easy-to-learn\, and low-impact sport is ideal for all skill levels. Mike will personally guide you through the basics—no experience (or special equipment) required. Just bring a pair of tennis shoes and your enthusiasm!\nEven if you’re not usually into sports\, this is a great opportunity to try something new\, get moving\, and enjoy time with fellow IWCT members.\n🗓 Court Times Reserved for IWCT Members \n• Mondays: 9 am – 10 am\n• Fridays: 10 am – 11 am\n  \n📍 Location:\nDLF Torino\nCorso Rosselli 153\, 10141 Torino\n  \n✅ To RSVP & Reserve Your Spot\nJoin Mike’s AIRS Pickleball for IWCT WhatsApp group.\nMessage Mike at +39 335 761 0979 to be added.\n  \nℹ️ Need More Info?\nThe AIRS Pickleball for IWCT chat is the place to:\n• Ask questions\n• Get updates\n• Connect with other members interested in playing\n  \nYou can also join the IWCT Pickleball WhatsApp chat to stay connected with the wider community.
URL:https://iwct.it/event/iwct-pickleball-3/2031-04-14/
LOCATION:DLF Torino\, Corso Rosselli 153\, Torino\, Pidmonte\, 10141\, Italy
CATEGORIES:IWCT Activity,Pickleball
ATTACH;FMTTYPE=image/jpeg:https://iwct.it/wp-content/uploads/2025/10/Pickleball.jpg
ORGANIZER;CN="Linda Cameron":MAILTO:walking@iwct.it
END:VEVENT
BEGIN:VEVENT
DTSTART;TZID=Europe/Rome:20310418T100000
DTEND;TZID=Europe/Rome:20310418T110000
DTSTAMP:20260423T225209
CREATED:20251010T144058Z
LAST-MODIFIED:20260421T152430Z
UID:10003414-1934272800-1934276400@iwct.it
SUMMARY:IWCT Pickleball
DESCRIPTION:🎾 IWCT Game On! – Pickleball with Mike English\nLooking for a fun\, social way to stay active? Mike English\, expert instructor at DLF Torino\, has reserved exclusive court times just for IWCT members and friends!\nNever played pickleball before? Perfect!\nThis fast-growing\, easy-to-learn\, and low-impact sport is ideal for all skill levels. Mike will personally guide you through the basics—no experience (or special equipment) required. Just bring a pair of tennis shoes and your enthusiasm!\nEven if you’re not usually into sports\, this is a great opportunity to try something new\, get moving\, and enjoy time with fellow IWCT members.\n🗓 Court Times Reserved for IWCT Members & Friends\n• Mondays:9 am to 10 am\n• Fridays: 10 am to 11 am\n  \n📍 Location:\nDLF Torino\nCorso Rosselli 153\, 10141 Torino\n  \n✅ To RSVP & Reserve Your Spot\nJoin Mike’s AIRS Pickleball for IWCT WhatsApp group.\nMessage Mike at +39 335 761 0979 to be added.\n  \nℹ️ Need More Info?\nThe AIRS Pickleball for IWCT chat is the place to:\n• Ask questions\n• Get updates\n• Connect with other members interested in playing\n  \nYou can also join the IWCT Pickleball WhatsApp chat to stay connected with the wider community.
URL:https://iwct.it/event/iwct-pickleball-2/2031-04-18/
LOCATION:DLF Torino\, Corso Rosselli 153\, Torino\, Pidmonte\, 10141\, Italy
CATEGORIES:IWCT Activity,Pickleball
ATTACH;FMTTYPE=image/jpeg:https://iwct.it/wp-content/uploads/2025/10/Pickleball.jpg
ORGANIZER;CN="Linda Cameron":MAILTO:pickleball@iwct.it
END:VEVENT
BEGIN:VEVENT
DTSTART;TZID=Europe/Rome:20310421T090000
DTEND;TZID=Europe/Rome:20310421T100000
DTSTAMP:20260423T225209
CREATED:20260421T140338Z
LAST-MODIFIED:20260421T152606Z
UID:10003675-1934528400-1934532000@iwct.it
SUMMARY:IWCT Pickleball
DESCRIPTION:🎾 IWCT Game On! – Pickleball with Mike English\nLooking for a fun\, social way to stay active? Mike English\, expert instructor at DLF Torino\, has reserved exclusive court times just for IWCT members and friends!\nNever played pickleball before? Perfect!\nThis fast-growing\, easy-to-learn\, and low-impact sport is ideal for all skill levels. Mike will personally guide you through the basics—no experience (or special equipment) required. Just bring a pair of tennis shoes and your enthusiasm!\nEven if you’re not usually into sports\, this is a great opportunity to try something new\, get moving\, and enjoy time with fellow IWCT members.\n🗓 Court Times Reserved for IWCT Members \n• Mondays: 9 am – 10 am\n• Fridays: 10 am – 11 am\n  \n📍 Location:\nDLF Torino\nCorso Rosselli 153\, 10141 Torino\n  \n✅ To RSVP & Reserve Your Spot\nJoin Mike’s AIRS Pickleball for IWCT WhatsApp group.\nMessage Mike at +39 335 761 0979 to be added.\n  \nℹ️ Need More Info?\nThe AIRS Pickleball for IWCT chat is the place to:\n• Ask questions\n• Get updates\n• Connect with other members interested in playing\n  \nYou can also join the IWCT Pickleball WhatsApp chat to stay connected with the wider community.
URL:https://iwct.it/event/iwct-pickleball-3/2031-04-21/
LOCATION:DLF Torino\, Corso Rosselli 153\, Torino\, Pidmonte\, 10141\, Italy
CATEGORIES:IWCT Activity,Pickleball
ATTACH;FMTTYPE=image/jpeg:https://iwct.it/wp-content/uploads/2025/10/Pickleball.jpg
ORGANIZER;CN="Linda Cameron":MAILTO:walking@iwct.it
END:VEVENT
END:VCALENDAR